BEGIN:VCALENDAR
VERSION:2.0
PRODID:-//AudioTheme 1.8.2
BEGIN:VEVENT
UID:http://www.tundejegede.org/?post_type=audiotheme_gig&#038;p=1909
URL:http://www.tundejegede.org/shows/2019-05-08/
DTSTART;TZID=GMT:20190508T190000
SUMMARY:Tunde Jegede: New Worlds Tour @ The Forge, Anvil, BASINGSTOKE
DESCRIPTION:New Worlds: Visions of a Traveller follows the journey of two legendary travellers\, DH Lawrence and Ibn Battuta and features Tunde Jegede (Kora/Cello)\, Rafael Guel (Vihuela/Percussion) and Sunara Begum (Movement Performance/Multi-media visuals).
LOCATION:The Forge\, Anvil Arts\, Churchill Way\, Basingstoke\, UK\, UK\, RG21 7QR
END:VEVENT
END:VCALENDAR