BEGIN:VCALENDAR
VERSION:2.0
PRODID:-//AudioTheme 1.8.2
BEGIN:VEVENT
UID:http://www.tundejegede.org/?post_type=audiotheme_gig&#038;p=1979
URL:http://www.tundejegede.org/shows/2019-05-09-2-3-5-2-2-2-2/
DTSTART;TZID=GMT:20190403T000000
SUMMARY:STUDIO RECORDING: Tunde Jegede & Moses Sumney - LONDON
DESCRIPTION:Tunde Jegede records a track with the incredible Singer/Songwriter\, Moses Sumney at the Strongroom Studios in London. A creative afternoon contributing to a beautiful track was shared by all. The song will be released in the autumn on Moses Sumney's new album.   
LOCATION:Strongroom Studios 2\, 120-124 Curtain Rd\, London\, \, UK\, EC2A 3SQ
END:VEVENT
END:VCALENDAR