BEGIN:VCALENDAR
VERSION:2.0
PRODID:-//AudioTheme 1.8.2
BEGIN:VEVENT
UID:http://www.tundejegede.org/?post_type=audiotheme_gig&#038;p=1975
URL:http://www.tundejegede.org/shows/2019-05-09-2-3-5-2-2/
DTSTART;TZID=GMT:20190604T120000
SUMMARY:Tunde Jegede / Sunara Begum: Who Am I Project - Workshop @ Shine Cafe, LONDON
DESCRIPTION:Who Am I
LOCATION:Shine Cafe\, 89-91 Turnpike Lane\,   Hornsey\, London\, \, UK\, N8 0DY
END:VEVENT
END:VCALENDAR