BEGIN:VCALENDAR
VERSION:2.0
PRODID:-//AudioTheme 1.8.2
BEGIN:VEVENT
UID:http://www.tundejegede.org/?post_type=audiotheme_gig&#038;p=1988
URL:http://www.tundejegede.org/shows/2019-05-09-2-3-5-2-3-2-2/
DTSTART;TZID=GMT:20190830T000000
SUMMARY:Tunde Jegede / Sunara Begum: Who Am I Performance @ V&A, LONDON, UK
DESCRIPTION:Who Am I
LOCATION:Victoria & Albert Museum
END:VEVENT
END:VCALENDAR