BEGIN:VCALENDAR
VERSION:2.0
PRODID:-//AudioTheme 1.8.2
BEGIN:VEVENT
UID:http://www.tundejegede.org/?post_type=audiotheme_gig&#038;p=1987
URL:http://www.tundejegede.org/shows/2019-05-09-2-3-5-2-3-2/
DTSTART;TZID=GMT:20190723T000000
SUMMARY:Tunde Jegede / Sunara Begum: Who Am I Residency (23rd - 28th July) @ Ventnor Fringe, ISLE OF WIGHT
DESCRIPTION:Who Am I
LOCATION:Ventnor Exchange
END:VEVENT
END:VCALENDAR