BEGIN:VCALENDAR
VERSION:2.0
PRODID:-//AudioTheme 1.8.2
BEGIN:VEVENT
UID:http://www.tundejegede.org/?post_type=audiotheme_gig&#038;p=1973
URL:http://www.tundejegede.org/shows/2019-05-09-2-3-5-2/
DTSTART;TZID=GMT:20190602T133000
SUMMARY:Tunde Jegede / Sunara Begum: Who Am I Project - Workshop @ Bruce Castle Museum, LONDON
DESCRIPTION:Who Am I
LOCATION:Bruce Castle Museum\, Lordship Lane\, London\, \, UK\, N17 8NU
END:VEVENT
END:VCALENDAR