BEGIN:VCALENDAR
VERSION:2.0
PRODID:-//AudioTheme 1.8.2
BEGIN:VEVENT
UID:http://www.tundejegede.org/?post_type=audiotheme_gig&#038;p=1920
URL:http://www.tundejegede.org/shows/2019-05-09-2-3/
DTSTART;TZID=GMT:20190514T140000
SUMMARY:Tunde Jegede: New Worlds Tour @ Morrab Library, PENZANCE
DESCRIPTION:New Worlds: Visions of a Traveller follows the journey of two legendary travellers\, DH Lawrence and Ibn Battuta and features Tunde Jegede (Kora/Cello)\, Rafael Guel (Vihuela/Percussion) and Sunara Begum (Movement Performance/Multi-media visuals).
LOCATION:Morrab Library\, Morrab Gardens  Penzance\, Cornwall\, Penzance\, UK\, UK\, TR18 4DA
END:VEVENT
END:VCALENDAR