BEGIN:VCALENDAR
VERSION:2.0
PRODID:-//AudioTheme 1.8.2
BEGIN:VEVENT
UID:http://www.tundejegede.org/?post_type=audiotheme_gig&#038;p=1912
URL:http://www.tundejegede.org/shows/2019-05-09/
DTSTART;TZID=GMT:20190509T200000
SUMMARY:Tunde Jegede: New Worlds Tour @ Norwich Arts Centre, NORWICH
DESCRIPTION:New Worlds: Visions of a Traveller follows the journey of two legendary travellers\, DH Lawrence and Ibn Battuta and features Tunde Jegede (Kora/Cello)\, Rafael Guel (Vihuela/Percussion) and Sunara Begum (Movement Performance/Multi-media visuals).
LOCATION:Norwich Arts Centre\, 51 St Benedict's Street\, Norwich \, UK\, UK\, NR2 4PG
END:VEVENT
END:VCALENDAR