BEGIN:VCALENDAR
VERSION:2.0
PRODID:-//AudioTheme 1.8.2
BEGIN:VEVENT
UID:http://www.tundejegede.org/?post_type=audiotheme_gig&#038;p=1949
URL:http://www.tundejegede.org/shows/artist-residency-guest-projects-030819-300819/
DTSTART;VALUE=DATE:20190803
SUMMARY:Artist Residency @ Guest Projects (03/08/19 - 30/08/19)
DESCRIPTION:Guest Projects Artist Residency at Shonibare Studio from 03/08/19 - 30/08/19 with NOK Orchestra. 
LOCATION:Shonibare Studio\, 1 Andrews Rd\, London E8 4QU
END:VEVENT
END:VCALENDAR