BEGIN:VCALENDAR
VERSION:2.0
PRODID:-//AudioTheme 1.8.2
BEGIN:VEVENT
UID:http://www.tundejegede.org/?post_type=audiotheme_gig&#038;p=1953
URL:http://www.tundejegede.org/shows/emidy-project-west-africa-tour-2-2-2-2-2-2/
DTSTART;TZID=GMT:20191116T000000
SUMMARY:Emidy Project: South America Tour @ Centro Cultural Parque de España - ROSARIO, ARGENTINA
DESCRIPTION:Emidy Project performance at Centro Cultural Parque de España in Rosario\, Argentina with Tunde Jegede\, Diana Baroni\, Rafael Guel\, Simon Drappier and Sunara Begum.  
LOCATION:Centro Cultural Parque de España AECID\, Sarmiento y el río Sarmiento\, S2000 AHQ\, Santa Fe\, Argentina
END:VEVENT
END:VCALENDAR