BEGIN:VCALENDAR
VERSION:2.0
PRODID:-//AudioTheme 1.8.2
BEGIN:VEVENT
UID:http://www.tundejegede.org/?post_type=audiotheme_gig&#038;p=1955
URL:http://www.tundejegede.org/shows/emidy-project-west-africa-tour-2-2-2-2-2-3/
DTSTART;TZID=GMT:20191120T000000
SUMMARY:Emidy Project: South America Tour @ Teatro Zitarroza - MONTEVIDEO, URUGUAY
DESCRIPTION:Emidy Project performance at Teatro Zitarroza in Montevideo\, Uruguay with Tunde Jegede\, Diana Baroni\, Rafael Guel\, Simon Drappier and Sunara Begum.  
LOCATION:Teatro Zitarroza\, Av. 18 de julio 1012\, Julio Herrera y Obes casi\, 11100 Montevideo\, Uruguay
END:VEVENT
END:VCALENDAR