BEGIN:VCALENDAR
VERSION:2.0
PRODID:-//AudioTheme 1.8.2
BEGIN:VEVENT
UID:http://www.tundejegede.org/?post_type=audiotheme_gig&#038;p=1951
URL:http://www.tundejegede.org/shows/emidy-project-west-africa-tour-2-2-2-2-2/
DTSTART;TZID=GMT:20191110T000000
SUMMARY:Emidy Project: South America Tour @ Usina del Arte - BUENOS AIRES, ARGENTINA
DESCRIPTION:Emidy Project performance at the Usina del Arte in Buenos Aires\, Argentina with Tunde Jegede\, Diana Baroni\, Rafael Guel\, Simon Drappier and Sunara Begum.  
LOCATION:Usina del Arte\, Agustín R. Caffarena 1\, 1157 CABA\, Buenos Aires\, Argentina
END:VEVENT
END:VCALENDAR