BEGIN:VCALENDAR
VERSION:2.0
PRODID:-//AudioTheme 1.8.2
BEGIN:VEVENT
UID:http://www.tundejegede.org/?post_type=audiotheme_gig&#038;p=1946
URL:http://www.tundejegede.org/shows/emidy-project-west-africa-tour-2-2-2/
DTSTART;TZID=GMT:20190615T000000
SUMMARY:Emidy Project: West Africa Tour @ Institut Français - LOME, TOGO
DESCRIPTION:Performance of the Emidy Project at Institut Francais in Lome\, Togo.
LOCATION:Institut Français\, Avenue du General de Gaulle\, Lomé\, Togo
END:VEVENT
END:VCALENDAR