BEGIN:VCALENDAR
VERSION:2.0
PRODID:-//AudioTheme 1.8.2
BEGIN:VEVENT
UID:http://www.tundejegede.org/?post_type=audiotheme_gig&#038;p=1944
URL:http://www.tundejegede.org/shows/emidy-project-west-africa-tour-2-2/
DTSTART;TZID=GMT:20190614T000000
SUMMARY:Emidy Project: West Africa Tour @ Institut Français - COTONOU, BENIN
DESCRIPTION:Performance of the Emidy Project at Institut Francais in Cotonou\, Benin.
LOCATION:Institut Français\, Cotonou\, Benin
END:VEVENT
END:VCALENDAR