BEGIN:VCALENDAR
VERSION:2.0
PRODID:-//AudioTheme 1.8.2
BEGIN:VEVENT
UID:http://www.tundejegede.org/?post_type=audiotheme_gig&#038;p=1943
URL:http://www.tundejegede.org/shows/emidy-project-west-africa-tour-2/
DTSTART;TZID=GMT:20190612T000000
SUMMARY:Emidy Project: West Africa Tour @ Alliance Français - LAGOS, NIGERIA
DESCRIPTION:Performance of the Emidy Project at Alliance Francais in Lagos\, Nigeria.
LOCATION:Alliance Francais\, 9 Osborne Retour Road\, Ikoyi 100001\, Lagos\,
END:VEVENT
END:VCALENDAR