BEGIN:VCALENDAR
VERSION:2.0
PRODID:-//AudioTheme 1.8.2
BEGIN:VEVENT
UID:http://www.tundejegede.org/?post_type=audiotheme_gig&#038;p=1940
URL:http://www.tundejegede.org/shows/emidy-project-west-africa-tour/
DTSTART;TZID=GMT:20190611T000000
SUMMARY:Emidy Project: West Africa Tour @ Institut Français - LAGOS, NIGERIA
DESCRIPTION:Masterclass and preview performance of the Emidy Project at the Consulate General of France in Lagos\, Nigeria. 
LOCATION:Consulate General of France\, 1 Oyinkan Abayomi Dr\, Ikoyi\, Lagos\, Nigeria
END:VEVENT
END:VCALENDAR