BEGIN:VCALENDAR
VERSION:2.0
PRODID:-//AudioTheme 1.8.2
BEGIN:VEVENT
UID:http://www.tundejegede.org/?post_type=audiotheme_gig&#038;p=1898
URL:http://www.tundejegede.org/shows/film-screening-winged-bull-in-the-elephant-case-bac-performance-live-the-box-set/
DTSTART;TZID=GMT:20190317T000000
SUMMARY:FILM SCREENING: Winged Bull in the Elephant Case @ BAC - Performance Live: The Box Set
DESCRIPTION:Screening of the BBC Production\, 'Winged Bull in the Elephant Case' by Robin Friend at Battersea Arts Centre featuring the choreography and movement of Wayne McGregor and Bonetics with music performed by Tunde Jegede and Joanna MacGregor. 
LOCATION:Battersea Arts Centre
END:VEVENT
END:VCALENDAR