BEGIN:VCALENDAR
VERSION:2.0
PRODID:-//AudioTheme 1.8.2
BEGIN:VEVENT
UID:http://www.tundejegede.org/?post_type=audiotheme_gig&#038;p=2024
URL:http://www.tundejegede.org/shows/oliver-lagos-to-london-bbc-radio-4/
DTSTART;TZID=GMT:20200119T000000
SUMMARY:Oliver Lagos to London @ BBC Radio 4
DESCRIPTION:The new BBC Radio 4 radio drama\, Oliver Lagos to London\, features Tunde Jegede's music including\; Lamentation\, Heathaze\, Mirror of the Deepest and No Go Slow by Tunde Jegede and the Art Ensemble of Lagos. 
LOCATION:BBC Radio 4\, WORLDWIDE\, \, UK\, WORLDWIDE
END:VEVENT
END:VCALENDAR