BEGIN:VCALENDAR
VERSION:2.0
PRODID:-//AudioTheme 1.8.2
BEGIN:VEVENT
UID:http://www.tundejegede.org/?post_type=audiotheme_gig&#038;p=2052
URL:http://www.tundejegede.org/shows/oshuns-lament-royal-albert-memorial-museum/
DTSTART;TZID=GMT:20200307T193000
SUMMARY:OSHUN'S LAMENT @ Royal Albert Memorial Museum
DESCRIPTION:Premiere of Tunde Jegede's new composition\, Oshun's Lament\, for Yoruba voice and chamber ensemble.  It will be performed by the extraordinary singer/songwriter Bumi Thomas and Members of the Devon Philharmonic Orchestra. 
LOCATION:Royal Albert Memorial Museum & Art Gallery\, Queen Street  \, Exeter \, UK\, UK\, EX4 3RX
END:VEVENT
END:VCALENDAR