BEGIN:VCALENDAR
VERSION:2.0
PRODID:-//AudioTheme 1.8.2
BEGIN:VEVENT
UID:http://www.tundejegede.org/?post_type=audiotheme_gig&#038;p=1883
URL:http://www.tundejegede.org/shows/screening-offside-khartoum-berlinale/
DTSTART;TZID=GMT:20190213T000000
SUMMARY:FILM SCREENING: Offside Khartoum @ Berlinale
DESCRIPTION:World Premiere Screening of Offside Khartoum by Marwa Zein with music composed by Tunde Jegede. The screening will be held at Kino Arsenal 1 Cinema.  
LOCATION:Kino Arsenal 1 Cinema\, Berlin
END:VEVENT
END:VCALENDAR