BEGIN:VCALENDAR
VERSION:2.0
PRODID:-//AudioTheme 1.8.2
BEGIN:VEVENT
UID:http://www.tundejegede.org/?post_type=audiotheme_gig&#038;p=2016
URL:http://www.tundejegede.org/shows/tunde-jegede-birmingham-conservatoire-3/
DTSTART;TZID=GMT:20200115T113000
SUMMARY:Tunde Jegede @ Royal Birmingham Conservatoire
DESCRIPTION:Tunde Jegede holds a workshop/masterclass for composition students at Birmingham Conservatoire looking at composing and scoring music for the Kora. 
LOCATION:Royal Birmingham Conservatoire\, 200 Jennens Rd\, Birmingham\, UK\, UK\, B4 7XR
END:VEVENT
END:VCALENDAR