BEGIN:VCALENDAR
VERSION:2.0
PRODID:-//AudioTheme 1.8.2
BEGIN:VEVENT
UID:http://www.tundejegede.org/?post_type=audiotheme_gig&#038;p=2027
URL:http://www.tundejegede.org/shows/tunde-jegede-concert-birmingham-conservatoire/
DTSTART;TZID=GMT:20200204T193000
SUMMARY:Tunde Jegede Concert @ Royal Birmingham Conservatoire
DESCRIPTION:Tunde Jegede will perform new works by RBC composers: Kailan Barton-Porter\, Millicent James\, Yuqian Zhang\, Adam Parry-Davies and works from his own repertoire.   
LOCATION:Royal Birmingham Conservatoire\, 200 Jennens Rd\, Birmingham\, UK\, UK\, B4 7XR
END:VEVENT
END:VCALENDAR