BEGIN:VCALENDAR
VERSION:2.0
PRODID:-//AudioTheme 1.8.2
BEGIN:VEVENT
UID:http://www.tundejegede.org/?post_type=audiotheme_gig&#038;p=1969
URL:http://www.tundejegede.org/shows/tunde-jegede-derek-gripper-cardiff-guitar-festival-2/
DTSTART;TZID=GMT:20190713T000000
SUMMARY:Tunde Jegede, Yumino Seki & Sunara Begum @ October Gallery - LONDON, UK
DESCRIPTION:Tunde Jegede in collaboration with the Japanese Butoh dancer\, Yumino Seki and live performance artist\, Sunara Begum. They will perform new music and dance devised for the show drawn from their seminal piece\, 'Gekka\, Under The Moon' to take place in the beautiful surroundings of the October Gallery.   
END:VEVENT
END:VCALENDAR