BEGIN:VCALENDAR
VERSION:2.0
PRODID:-//AudioTheme 1.8.2
BEGIN:VEVENT
UID:http://www.tundejegede.org/?post_type=audiotheme_gig&#038;p=1896
URL:http://www.tundejegede.org/shows/tunde-jegede-derek-gripper-cardiff-guitar-festival/
DTSTART;TZID=GMT:20190727T000000
SUMMARY:Tunde Jegede & Derek Gripper @ Cardiff Guitar Festival - CARDIFF, UK
DESCRIPTION:Tunde Jegede & Derek Gripper will perform music from their album 'Mali in Oak' which was recorded at Shakespeare's Globe Theatre and released on the Globe Label.  
LOCATION:Chapter Arts Centre\, Market Rd\, Canton\, Cardiff CF5 1QE
END:VEVENT
END:VCALENDAR