BEGIN:VCALENDAR
VERSION:2.0
PRODID:-//AudioTheme 1.8.2
BEGIN:VEVENT
UID:http://www.tundejegede.org/?post_type=audiotheme_gig&#038;p=2037
URL:http://www.tundejegede.org/shows/tunde-jegede-emidy-talk-morrab-library/
DTSTART;TZID=GMT:20200304T140000
SUMMARY:Tunde Jegede Emidy Talk @ Morrab Library
DESCRIPTION:Tunde Jegede will give a talk on the amazing life and times of the nineteenth century African composer Joseph Emidy who lived and worked in Cornwall from 1799 - 1835. 
LOCATION:Morrab Library\, Morrab Gardens  Penzance\, Cornwall\, Penzance\, UK\, UK\, TR18 4DA
END:VEVENT
END:VCALENDAR