BEGIN:VCALENDAR
VERSION:2.0
PRODID:-//AudioTheme 1.8.2
BEGIN:VEVENT
UID:http://www.tundejegede.org/?post_type=audiotheme_gig&#038;p=2034
URL:http://www.tundejegede.org/shows/tunde-jegede-house-concert-in-london-nw6/
DTSTART;TZID=GMT:20200301T200000
SUMMARY:Tunde Jegede House Concert @ in London NW6
DESCRIPTION:Tunde Jegede gives an intimate house concert in London NW6 of his kora and cello compositions. Drawing on the music form his solo Heritage and Testimony Cds this will be a unique opportunity to hear his music in a house chamber setting. 
LOCATION:NW6\, London\, UK\, UK\, NW6
END:VEVENT
END:VCALENDAR