BEGIN:VCALENDAR
VERSION:2.0
PRODID:-//AudioTheme 1.8.2
BEGIN:VEVENT
UID:http://www.tundejegede.org/?post_type=audiotheme_gig&#038;p=2056
URL:http://www.tundejegede.org/shows/tunde-jegede-in-treemonisha-volcano-productions-2/
DTSTART;TZID=GMT:20200413T170000
SUMMARY:Tunde Jegede in Treemonisha @ Volcano Productions
DESCRIPTION:Tunde Jegede will be working in a new production of the opera Treemonisha with Volcano Productions in San Fransisco. 
LOCATION:Bayview Opera House\, 4705 3rd Street   \, San Francisco\, USA\, USA\, 94124
END:VEVENT
END:VCALENDAR