BEGIN:VCALENDAR
VERSION:2.0
PRODID:-//AudioTheme 1.8.2
BEGIN:VEVENT
UID:http://www.tundejegede.org/?post_type=audiotheme_gig&#038;p=2054
URL:http://www.tundejegede.org/shows/tunde-jegede-in-treemonisha-volcano-productions/
DTSTART;TZID=GMT:20200318T140000
SUMMARY:Tunde Jegede in Treemonisha @ Volcano Productions
DESCRIPTION:Tunde Jegede will be working in a new production of the opera Treemonisha with Volcano Productions in Toronto\, Canada.  
LOCATION:Bathurst Centre\, 918 Bathurst Sreet\, Toronto\, Canada\, Canada\, ON M5R 3G5
END:VEVENT
END:VCALENDAR