BEGIN:VCALENDAR
VERSION:2.0
PRODID:-//AudioTheme 1.8.2
BEGIN:VEVENT
UID:http://www.tundejegede.org/?post_type=audiotheme_gig&#038;p=2001
URL:http://www.tundejegede.org/shows/tunde-jegede-mike-block-concert-third-life-studio-boston-usa/
DTSTART;TZID=GMT:20190501T230000
SUMMARY:Tunde Jegede & Mike Block concert @ Third Life Studio, BOSTON, USA
DESCRIPTION:A solo concert by Tunde Jegede with special guest cellist from the Silk Road Ensemble\, Mike Block. This performance and unique collaboration between these two extraordinary artists will take place in the beautiful intimate setting of the Third Life Studio. 
LOCATION:Third Life Studio\, 33 Union Square    \, Somerville\, MA \, USA\, 02143
END:VEVENT
END:VCALENDAR