BEGIN:VCALENDAR
VERSION:2.0
PRODID:-//AudioTheme 1.8.2
BEGIN:VEVENT
UID:http://www.tundejegede.org/?post_type=audiotheme_gig&#038;p=2014
URL:http://www.tundejegede.org/shows/tunde-jegede-nok-orchestra-recording-st-stephen-walbrook/
DTSTART;TZID=GMT:20200111T110000
SUMMARY:Tunde Jegede & NOK Orchestra Recording @ St Stephen Walbrook
DESCRIPTION:Tunde Jegede & NOK Orchestra recording their debut album featuring\; Mandé Suite\, Let The Elements Sing & Dance and Invocation. 
LOCATION:St Stephen Walbrook\, 39 Walbrook  \, London\, UK\, UK\, EC4N 8BN
END:VEVENT
END:VCALENDAR