BEGIN:VCALENDAR
VERSION:2.0
PRODID:-//AudioTheme 1.8.2
BEGIN:VEVENT
UID:http://www.tundejegede.org/?post_type=audiotheme_gig&#038;p=2012
URL:http://www.tundejegede.org/shows/tunde-jegede-nok-orchestra-salon-concert/
DTSTART;TZID=GMT:20200110T193000
SUMMARY:Tunde Jegede & NOK Orchestra @ Salon Concert
DESCRIPTION:Tunde Jegede and the NOK Orchestra give a seminal performance for the salon concert series hosted by New Horizons at the Emmanuel Church Holloway.
LOCATION:Emmanuel Church Holloway\, 145 Hornsey Rd  \, London\, UK\, UK\, N7 6DU
END:VEVENT
END:VCALENDAR