BEGIN:VCALENDAR
VERSION:2.0
PRODID:-//AudioTheme 1.8.2
BEGIN:VEVENT
UID:http://www.tundejegede.org/?post_type=audiotheme_gig&#038;p=2015
URL:http://www.tundejegede.org/shows/tunde-jegede-nok-orchestra-video-recording-st-stephen-walbrook/
DTSTART;TZID=GMT:20200112T140000
SUMMARY:Tunde Jegede & NOK Orchestra Video Recording @ St Stephen Walbrook
DESCRIPTION:Tunde Jegede & NOK Orchestra record music videos of their pieces from their debut album\, Invocation\, filmed by Ron Wyman and Sunara Begum. These will include music by contemporary African composers\, Fred Onovwerosuoke and Victor Uwaifo.   
LOCATION:St Stephen Walbrook\, 39 Walbrook  \, London\, UK\, UK\, EC4N 8BN
END:VEVENT
END:VCALENDAR