BEGIN:VCALENDAR
VERSION:2.0
PRODID:-//AudioTheme 1.8.2
BEGIN:VEVENT
UID:http://www.tundejegede.org/?post_type=audiotheme_gig&#038;p=1937
URL:http://www.tundejegede.org/shows/tunde-jegede-nw-live-music/
DTSTART;TZID=GMT:20191129T000000
SUMMARY:Tunde Jegede @ NW Live Music
DESCRIPTION:A solo kora and cello performance by Tunde Jegede in a concert entitled 'Music & Body' to be held at the Kentish Town Health Centre. The concert also features oud player\, Attah Haddad and Violinist\, Max Baillie. 
LOCATION:Kentish Town Health Centre\, London NW5 2BX
END:VEVENT
END:VCALENDAR