BEGIN:VCALENDAR
VERSION:2.0
PRODID:-//AudioTheme 1.8.2
BEGIN:VEVENT
UID:http://www.tundejegede.org/?post_type=audiotheme_gig&#038;p=1985
URL:http://www.tundejegede.org/shows/tunde-jegede-the-globe-edward-ii-2-5-2-2-2-2-2-2-2-2-2-2-2-2-3-2-2-2-2-2-2-3-2-2-2-3-2-2-2-3-2/
DTSTART;TZID=GMT:20190426T140000
SUMMARY:Tunde Jegede - Talk & Lecture @ Yale University, NEW HAVEN, USA
DESCRIPTION:Tunde Jegede will be giving a talk and lecture at University for a conference of international scholars and students on the topic of Black Music: its Circulation and Impact in Eighteenth-Century London.
LOCATION:Yale Center for British Art\, 1080 Chapel Street\, New Haven\, CT\, USA\, 06520-8280
END:VEVENT
END:VCALENDAR