BEGIN:VCALENDAR
VERSION:2.0
PRODID:-//AudioTheme 1.8.2
BEGIN:VEVENT
UID:http://www.tundejegede.org/?post_type=audiotheme_gig&#038;p=1983
URL:http://www.tundejegede.org/shows/tunde-jegede-the-globe-edward-ii-2-5-2-2-2-2-2-2-2-2-2-2-2-2-3-2-2-2-2-2-2-3-2-2-2-3-2-2-2-3/
DTSTART;TZID=GMT:20190425T000000
SUMMARY:Tunde Jegede - Solo Performance @ Yale University, New Haven, USA
DESCRIPTION:Tunde Jegede performing for a conference of international scholars and students at Yale University\, New Haven.
LOCATION:Yale University\, 1111 Chapel St\,   \, New Haven\, CT \, USA\, 06510
END:VEVENT
END:VCALENDAR