BEGIN:VCALENDAR
VERSION:2.0
PRODID:-//AudioTheme 1.8.2
BEGIN:VEVENT
UID:http://www.tundejegede.org/?post_type=audiotheme_gig&#038;p=1877
URL:http://www.tundejegede.org/shows/tunde-jegede-the-globe-edward-ii-2-5-2-2-2-2-2-2-2-2-2-2-2-2-3-2-2-2-2-2-2-3-2-2-2-3-2/
DTSTART;TZID=GMT:20190416T130000
SUMMARY:Tunde Jegede @ The Shakespeare's Globe - Edward II
DESCRIPTION:Tunde Jegede performing in a new production of Edward II at the Sam Wannamaker Theatre at Shakespeare's Globe.
LOCATION:Shakespeare's Globe\, New Globe Walk  Bankside\,   London SE1 9DT\, London\, \, UK\, SE1 9DT
END:VEVENT
END:VCALENDAR