BEGIN:VCALENDAR
VERSION:2.0
PRODID:-//AudioTheme 1.8.2
BEGIN:VEVENT
UID:http://www.tundejegede.org/?post_type=audiotheme_gig&#038;p=2030
URL:http://www.tundejegede.org/shows/who-am-i-lyric-theatre-bridport/
DTSTART;TZID=GMT:20200221T200000
SUMMARY:WHO AM I @ Lyric Theatre Bridport
DESCRIPTION:Tunde Jegede will perform in a production of 'Who Am I' with the Botoh Dancer\, Yumino Seki and visual performance artist\, Sunara Begum.
LOCATION:The Lyric Theatre Bridport\, 9 Barrack Street   \, Bridport\, UK\, UK\, DT6 3LX
END:VEVENT
END:VCALENDAR