BEGIN:VCALENDAR
VERSION:2.0
PRODID:-//AudioTheme 1.8.2
BEGIN:VEVENT
UID:http://www.tundejegede.org/?post_type=audiotheme_gig&#038;p=2028
URL:http://www.tundejegede.org/shows/who-am-i-residency-kulturfactory/
DTSTART;TZID=GMT:20200208T100000
SUMMARY:Who Am I Residency @ Kulturfactory
DESCRIPTION:Tunde Jegede will be taking part in an artistsic residency at Kulturfactory in Domicella\, Italy from 08/02/2020 - 14/02/2020.  
LOCATION:Villa Santa Maria\, Kulturscio'k\, Domicella\, Italy\, Italy\, Naples
END:VEVENT
END:VCALENDAR