BEGIN:VCALENDAR
VERSION:2.0
PRODID:-//AudioTheme 1.8.2
BEGIN:VEVENT
UID:http://www.tundejegede.org/?post_type=audiotheme_gig&#038;p=2049
URL:http://www.tundejegede.org/shows/who-am-i-the-poly-2-2-2-2/
DTSTART;TZID=GMT:20200309T140000
SUMMARY:WHO AM I - Workshop/Masterclass @ LV21 Ship
DESCRIPTION:Tunde Jegede will give a workshop/masterclass with Botoh Dancer\, Yumino Seki and visual performance artist\, Sunara Begum at the LV21 Ship in Gravesend as part of a 'Who Am I' Residency. 
LOCATION:LV21 Ship\, St Andrews Quay  West Street \, Gravesend \, UK\, UK\, DA11 0BG
END:VEVENT
END:VCALENDAR