BEGIN:VCALENDAR
VERSION:2.0
PRODID:-//AudioTheme 1.8.2
BEGIN:VEVENT
UID:http://www.tundejegede.org/?post_type=audiotheme_gig&#038;p=2046
URL:http://www.tundejegede.org/shows/who-am-i-the-poly-2-2-3/
DTSTART;TZID=GMT:20200313T193000
SUMMARY:WHO AM I @ The Forge, Anvil Arts
DESCRIPTION:Tunde Jegede will perform in a production of 'Who Am I' with the Botoh Dancer\, Yumino Seki and visual performance artist\, Sunara Begum.
LOCATION:The Forge\, Anvil Arts\, Churchill Way\, Basingstoke\, UK\, UK\, RG21 7QR
END:VEVENT
END:VCALENDAR