BEGIN:VCALENDAR
VERSION:2.0
PRODID:-//AudioTheme 1.8.2
BEGIN:VEVENT
UID:http://www.tundejegede.org/?post_type=audiotheme_gig&#038;p=2047
URL:http://www.tundejegede.org/shows/who-am-i-the-poly-2-2-4/
DTSTART;TZID=GMT:20200314T193000
SUMMARY:WHO AM I @ October Gallery
DESCRIPTION:Tunde Jegede will perform in a production of 'Who Am I' with the Botoh Dancer\, Yumino Seki and visual performance artist\, Sunara Begum.
LOCATION:October Gallery\, 24 Old Gloucester Street  Bloomsbury\, London \, UK\, UK\, WC1N 3AL
END:VEVENT
END:VCALENDAR