BEGIN:VCALENDAR
VERSION:2.0
PRODID:-//AudioTheme 1.8.2
BEGIN:VEVENT
UID:http://www.tundejegede.org/?post_type=audiotheme_gig&#038;p=2042
URL:http://www.tundejegede.org/shows/who-am-i-the-poly-2-2/
DTSTART;TZID=GMT:20200307T193000
SUMMARY:WHO AM I @ St Agnes Church
DESCRIPTION:Tunde Jegede will perform in a production of 'Who Am I' with the Botoh Dancer\, Yumino Seki and visual performance artist\, Sunara Begum.
LOCATION:St Agnes' Church\, 1 The Nurseries\, Freshwater \, UK\, UK\, PO40 9FG
END:VEVENT
END:VCALENDAR