BEGIN:VCALENDAR
VERSION:2.0
PRODID:-//AudioTheme 1.8.2
BEGIN:VEVENT
UID:http://www.tundejegede.org/?post_type=audiotheme_gig&#038;p=2039
URL:http://www.tundejegede.org/shows/who-am-i-the-poly-2/
DTSTART;TZID=GMT:20200306T193000
SUMMARY:WHO AM I @ East Dene Centre
DESCRIPTION:Tunde Jegede will perform in a production of 'Who Am I' with the Botoh Dancer\, Yumino Seki and visual performance artist\, Sunara Begum.
LOCATION:East Dene Centre\, Bonchurch Village Road  \, Ventnor\, UK\, UK\, PO38 1RQ
END:VEVENT
END:VCALENDAR